BEGIN:VCALENDAR
VERSION:2.0
CALSCALE:GREGORIAN
METHOD:PUBLISH
PRODID://CAAO//516664
BEGIN:VEVENT
DTSTAMP:20260424T030503
VTIMEZONE:America/New_York
DTSTART:20260608T123000Z
DTEND:20260608T200000Z
UID:516664
SUMMARY:IAAO Course 101 - Fundamentals of Real Property Appraisal
LOCATION:Warwick City Hall Annex, 65 Centerville Rd, Warwick, RI, 02886
DESCRIPTION:IAAO Course 101 - Fundamentals of Real Property Appraisal\n\n06/08/26 08:30 AM EST\n - 06/08/26 04:00 PM EST\Description:\nSponsored by the Rhode Island Association of Assessing Officers.\nIt is designed to provide students with an understanding and working knowledge of the procedures and techniques required to estimate the market value of vacant and improved properties. This course concentrates on the skills you need to estimate the market value of properties using two approaches to value: the cost approach and the sales comparison approach.\Location:\nWarwick City Hall Annex\n65 Centerville Rd\nWarwick, RI 02886
X-ALT-DESC;FMTTYPE=text/html:IAAO Course 101 - Fundamentals of Real Property Appraisal<br /><br />06/08/26 08:30 AM EST - 06/08/26 04:00 PM EST<br />Description:<br />Sponsored by the Rhode Island Association of Assessing Officers.<br />
It is&nbsp;designed to provide students with an understanding and working knowledge of the procedures and techniques required to estimate the market value of vacant and improved properties. This course concentrates on the skills you need to estimate the market value of properties using two approaches to value: the cost approach and the sales comparison approach.<br />Location:<br />Warwick City Hall Annex<br />65 Centerville Rd<br />Warwick, RI 02886
PRIORITY:3
TRANSP:TRANSPARENT
BEGIN:VALARM
TRIGGER:-PT5M
ACTION:DISPLAY
DESCRIPTION:Reminder
END:VALARM
END:VEVENT
END:VCALENDAR
