BEGIN:VCALENDAR
VERSION:2.0
CALSCALE:GREGORIAN
METHOD:PUBLISH
PRODID://FWEA//516292
BEGIN:VEVENT
DTSTAMP:20260423T055032
VTIMEZONE:America/New_York
DTSTART:20260427T150000Z
DTEND:20260427T160000Z
UID:516292
SUMMARY:FWRC Central Florida Chapter Year-End-Review
LOCATION:FWRC 103C, Ocean Center, Daytona Beach, Fl
DESCRIPTION:FWRC Central Florida Chapter Year-End-Review\n\n04/27/26 11:00 AM EST\n - 04/27/26 12:00 PM EST\Description:\n\nFWRC Room 103C and on Microsoft Teams\n\nhttps://teams.microsoft.com/meet/214745485975048?p=InJldOccOioa47bT5U \n\Location:\nFWRC 103C\nOcean Center\nDaytona Beach, Fl
X-ALT-DESC;FMTTYPE=text/html:FWRC Central Florida Chapter Year-End-Review<br /><br />04/27/26 11:00 AM EST - 04/27/26 12:00 PM EST<br />Description:<br /><p><br />
FWRC Room 103C and on Microsoft Teams<br />
<br />
<a href="https://teams.microsoft.com/meet/214745485975048?p=InJldOccOioa47bT5U">https://teams.microsoft.com/meet/214745485975048?p=InJldOccOioa47bT5U</a>&nbsp;</p>
<br />Location:<br />FWRC 103C<br />Ocean Center<br />Daytona Beach, Fl 
PRIORITY:3
TRANSP:TRANSPARENT
BEGIN:VALARM
TRIGGER:-PT5M
ACTION:DISPLAY
DESCRIPTION:Reminder
END:VALARM
END:VEVENT
END:VCALENDAR
