BEGIN:VCALENDAR
VERSION:2.0
CALSCALE:GREGORIAN
METHOD:PUBLISH
PRODID://TAHP//516048
BEGIN:VEVENT
DTSTAMP:20260420T222150
VTIMEZONE:America/Chicago
DTSTART:20260605T133000Z
DTEND:20260605T203000Z
UID:516048
SUMMARY:TAHPERD Workshop: Hosted by Area 5
LOCATION:, TX
DESCRIPTION:TAHPERD Workshop: Hosted by Area 5\n\n06/05/26 08:30 AM CST\n - 06/05/26 03:30 PM CST\Description:\nWorkshop Details\n\nFriday June 5, from 8:30AM - 3:30PM\n6 CPE Credit Hours\nLocation: Lincoln Elementary\n                700 Dr. Martin Luther King, Jr Drive\n                 Montgomery, TX 77356\nRegistration Prices\n\nCurrent TAHPERD Members\n\n\n	Prof. / Associate / Retired Member - $50\n	Student Member - $30\n\n\nNew/Renewing TAHPERD Members- Membership Prices\nMembership included in the price below.\n\n\n	Professional - $120\n	Associate - $110\n	Retired - $80\n	Student Member - $30\n\n\nNon-Member - $135\n\nNon-Member Student - $55\n(Must provide transcript showing full-time student status)\n\n \n\nCancellation Policy\n\nCancellations must be made in writing and postmarked no later than 2 weeks prior to the workshop date. Send requests to the TAHPERD Office. All cancellations are subject to a $15 processing fee. NO CANCELLATIONS will be accepted after their respective cancellation deadlines.\n\nMail to: TAHPERD | 1000 Heritage Circle | Round Rock, TX 78664\n\nPhone: 512-459-1299\nONLINE REGISTRATION\nPrintable Registration Form
X-ALT-DESC;FMTTYPE=text/html:TAHPERD Workshop: Hosted by Area 5<br /><br />06/05/26 08:30 AM CST - 06/05/26 03:30 PM CST<br />Description:<br /><strong><span style="font-size:20px"><a href="https://tahperd.org/workshops_sea_summit.php">Workshop Details</a></span></strong><br />
<br />
Friday June 5, from 8:30AM - 3:30PM<br />
6 CPE Credit Hours<br />
Location: Lincoln Elementary<br />
&nbsp; &nbsp; &nbsp; &nbsp; &nbsp; &nbsp; &nbsp; &nbsp; 700 Dr. Martin Luther King, Jr Drive<br />
&nbsp; &nbsp; &nbsp; &nbsp; &nbsp; &nbsp; &nbsp; &nbsp; &nbsp;Montgomery, TX 77356
<p><strong>Registration Prices</strong></p>

<p><strong>Current TAHPERD Members</strong></p>

<ul>
	<li>Prof. / Associate / Retired Member - $50</li>
	<li>Student Member - $30</li>
</ul>

<p><strong>New/Renewing TAHPERD Members-&nbsp;</strong><em><a href="https://tahperd.org/join_tahperd.php" target="_blank">Membership Prices</a><br />
Membership included in the price below.</em></p>

<ul>
	<li>Professional - $120</li>
	<li>Associate - $110</li>
	<li>Retired - $80</li>
	<li>Student Member - $30</li>
</ul>

<p><strong>Non-Member - $135</strong></p>

<p><strong>Non-Member Student - $55</strong><br />
(Must provide transcript showing full-time student status)</p>

<p>&nbsp;</p>

<p><strong>Cancellation Policy</strong></p>

<p>Cancellations must be made in writing and postmarked no later than 2 weeks prior to the workshop date. Send requests to the TAHPERD Office. All cancellations are subject to a $15 processing fee. NO CANCELLATIONS will be accepted after their respective cancellation deadlines.</p>

<p>Mail to: TAHPERD | 1000 Heritage Circle | Round Rock, TX 78664</p>

<p>Phone: 512-459-1299</p>
<strong><span style="font-size:20px"><a href="https://www.viethconsulting.com/members/evr/reg_event.php?orgcode=TAHP&amp;evid=62896019">ONLINE REGISTRATION</a><br />
<a href="https://www.tahperd.org/docs/Area_5_Workshop_Reg_Form_2026.pdf">Printable Registration Form</a></span></strong>
PRIORITY:3
TRANSP:TRANSPARENT
BEGIN:VALARM
TRIGGER:-PT5M
ACTION:DISPLAY
DESCRIPTION:Reminder
END:VALARM
END:VEVENT
END:VCALENDAR
