BEGIN:VCALENDAR
VERSION:2.0
CALSCALE:GREGORIAN
METHOD:PUBLISH
PRODID://TAHP//516046
BEGIN:VEVENT
DTSTAMP:20260425T163727
VTIMEZONE:America/Chicago
DTSTART:20260516T133000Z
DTEND:20260516T203000Z
UID:516046
SUMMARY:TAHPERD Workshop:<br>Hosted by Area 2
LOCATION:
DESCRIPTION:TAHPERD Workshop:<br>Hosted by Area 2\n\n05/16/26 08:30 AM CST\n - 05/16/26 03:30 PM CST\Description:\nEvent Information\n\nSaturday, May 16\n8:30AM - 3:30PM\n6 CPE Credit Hours\n\nOur Lady of the Lake University\n\n411 SW 24th St, San Antonio, TX 78207\n\n\nPrintable Registration Form\n
X-ALT-DESC;FMTTYPE=text/html:TAHPERD Workshop:<br>Hosted by Area 2<br /><br />05/16/26 08:30 AM CST - 05/16/26 03:30 PM CST<br />Description:<br /><h1>Event Information</h1>

<p><span style="font-size:16px">Saturday, May 16<br />
8:30AM - 3:30PM<br />
6 CPE Credit Hours</span></p>

<p><strong><span style="font-size:16px">Our Lady of the Lake University</span></strong></p>

<p><span style="font-size:16px">411 SW 24th St, San Antonio, TX 78207</span></p>

<p><br />
<span style="font-size:16px"><a href="https://www.tahperd.org/docs/Area_2_Workshop_Reg_Form_2026.pdf">Printable Registration Form</a></span></p>

PRIORITY:3
TRANSP:TRANSPARENT
BEGIN:VALARM
TRIGGER:-PT5M
ACTION:DISPLAY
DESCRIPTION:Reminder
END:VALARM
END:VEVENT
END:VCALENDAR
