BEGIN:VCALENDAR
VERSION:2.0
CALSCALE:GREGORIAN
METHOD:PUBLISH
PRODID://TAHP//516044
BEGIN:VEVENT
DTSTAMP:20260423T002243
VTIMEZONE:America/Chicago
DTSTART:20260624T133000Z
DTEND:20260624T203000Z
UID:516044
SUMMARY:TAHPERD Workshop:<br>Hosted by Area 12
LOCATION:
DESCRIPTION:TAHPERD Workshop:<br>Hosted by Area 12\n\n06/24/26 08:30 AM CST\n - 06/24/26 03:30 PM CST\Description:\nEvent Information\n\nWednesday, June 24\n8:30AM - 3:30PM\n6 CPE Credit Hours\n\nLocation:\nEastwood Middle School \n2612 Chaswood St.\nEl Paso, TX 79935\n\n\nPrintable Registration Form\n
X-ALT-DESC;FMTTYPE=text/html:TAHPERD Workshop:<br>Hosted by Area 12<br /><br />06/24/26 08:30 AM CST - 06/24/26 03:30 PM CST<br />Description:<br /><h1>Event Information</h1>

<p><span style="font-size:16px">Wednesday, June 24<br />
8:30AM - 3:30PM<br />
6 CPE Credit Hours</span></p>

<p><span style="font-size:16px">Location:<br />
Eastwood Middle School&nbsp;<br />
2612 Chaswood St.<br />
El Paso, TX 79935</span></p>

<p><br />
<span style="font-size:16px"><a href="https://www.tahperd.org/docs/Area_12_Workshop_Reg_Form_2026.pdf">Printable Registration Form</a></span></p>

PRIORITY:3
TRANSP:TRANSPARENT
BEGIN:VALARM
TRIGGER:-PT5M
ACTION:DISPLAY
DESCRIPTION:Reminder
END:VALARM
END:VEVENT
END:VCALENDAR
