BEGIN:VCALENDAR
VERSION:2.0
CALSCALE:GREGORIAN
METHOD:PUBLISH
PRODID://CLEV//515993
BEGIN:VEVENT
DTSTAMP:20260424T000648
VTIMEZONE:America/New_York
DTSTART:20260813T200000Z
DTEND:20260813T230000Z
UID:515993
SUMMARY:3rd Quarter 2026 Associate Council Happy Hour
LOCATION:Butcher and Brewer, 2043 East 4th Street, Cleveland, OH, 44115
DESCRIPTION:3rd Quarter 2026 Associate Council Happy Hour\n\n08/13/26 04:00 PM EST\n - 08/13/26 07:00 PM EST\Description:\nPlease join your fellow BOMA Northeast Ohio Members for an evening of networking, refreshments, and good company at our Summer Associates Council Happy Hour!\nThis event will offer a relaxed environment to connect with colleagues and industry peers over drinks and appetizers right downtown on East 4th Street! Whether you're looking to strengthen existing relationships or build new ones, we hope you'll take advantage of this opportunity to engage with Your BOMA community.\n \Location:\nButcher and Brewer\n2043 East 4th Street\nCleveland, OH 44115
X-ALT-DESC;FMTTYPE=text/html:3rd Quarter 2026 Associate Council Happy Hour<br /><br />08/13/26 04:00 PM EST - 08/13/26 07:00 PM EST<br />Description:<br />Please join your fellow BOMA Northeast Ohio Members for an evening of networking, refreshments, and good company at our Summer Associates Council Happy Hour!<br />
This event will offer a relaxed environment to connect with colleagues and industry peers over drinks and appetizers right downtown on East 4th Street!&nbsp;Whether you're looking to strengthen existing relationships or build new ones, we hope you'll take advantage of this opportunity to engage with Your BOMA community.<br />
&nbsp;<br />Location:<br />Butcher and Brewer<br />2043 East 4th Street<br />Cleveland, OH 44115
PRIORITY:3
TRANSP:TRANSPARENT
BEGIN:VALARM
TRIGGER:-PT5M
ACTION:DISPLAY
DESCRIPTION:Reminder
END:VALARM
END:VEVENT
END:VCALENDAR
