BEGIN:VCALENDAR
VERSION:2.0
CALSCALE:GREGORIAN
METHOD:PUBLISH
PRODID://CLEV//515992
BEGIN:VEVENT
DTSTAMP:20260421T104450
VTIMEZONE:America/New_York
DTSTART:20260819T160000Z
DTEND:20260819T170000Z
UID:515992
SUMMARY:3rd Quarter Virtual Speaker Series
LOCATION:
DESCRIPTION:3rd Quarter Virtual Speaker Series\n\n08/19/26 12:00 PM EST\n - 08/19/26 01:00 PM EST\Description:\nSave the Date for the 3rd Quarter Virtual Speaker Series!\nSession details, including the topic and speaker, will be posted soon!
X-ALT-DESC;FMTTYPE=text/html:3rd Quarter Virtual Speaker Series<br /><br />08/19/26 12:00 PM EST - 08/19/26 01:00 PM EST<br />Description:<br /><h1><span style="font-size:16px">Save the Date for the 3rd&nbsp;Quarter Virtual Speaker Series!</span></h1>
<span style="font-size:14px">Session details, including the topic and speaker, will be posted soon!</span>
PRIORITY:3
TRANSP:TRANSPARENT
BEGIN:VALARM
TRIGGER:-PT5M
ACTION:DISPLAY
DESCRIPTION:Reminder
END:VALARM
END:VEVENT
END:VCALENDAR
