BEGIN:VCALENDAR
VERSION:2.0
CALSCALE:GREGORIAN
METHOD:PUBLISH
PRODID://DFWA//515134
BEGIN:VEVENT
DTSTAMP:20260421T063226
VTIMEZONE:America/Chicago
DTSTART:20260116T000000Z
DTEND:20260116T020000Z
UID:515134
SUMMARY:DFW*ATW Annual New Year's Social Event: New Year, New Power! Celebrate Women Who Lead
LOCATION:ImageNet Consulting, 3223 Commander Drive, Carrollton, TX, 75006
DESCRIPTION:DFW*ATW Annual New Year's Social Event: New Year, New Power! Celebrate Women Who Lead\n\n01/15/26 06:00 PM CST\n - 01/15/26 08:00 PM CST\Description:\nStep into an unforgettable evening where inspiration meets ambition, courage meets community, and bold women with big ideas come together to spark what’s next.\nJoin the DFW Alliance of Technology and Women (DFW*ATW) for our signature annual celebration — an electrifying night designed to connect, collaborate, celebrate, and elevate the incredible women shaping the future of technology in North Texas and beyond.\n\nEvent Details:\nDate: Thursday, January,15, 2026\nTime: 5:30 – 8:00 – Small bites and drinks will be served\nLocation: ImageNet Consulting - https://www.imagenetconsulting.com/\n3223 Commander Drive\nCarrollton, TX 75006\n\nWhy You Should Be There\n\n	Celebrate the women who are breaking barriers and driving extraordinary impact\n	Connect with industry leaders, rising stars, and powerful allies\n	Collaborate through meaningful conversations that ignite ideas — and action\n	Elevate your mindset, your network, and your 2026 leadership vision\n	Enjoy an evening of fun, energy, empowerment, and unforgettable moments\n\n2026 and Beyond Starts With Us.\nLet’s kick off the new year with inspiration, intention, and the unstoppable force of women rising together.\nMark your calendar. Bring your brilliance. Come Celebrate & Elevate with DFW*ATW.\n\n\n \Location:\nImageNet Consulting\n3223 Commander Drive\nCarrollton, TX 75006
X-ALT-DESC;FMTTYPE=text/html:DFW*ATW Annual New Year's Social Event: New Year, New Power! Celebrate Women Who Lead<br /><br />01/15/26 06:00 PM CST - 01/15/26 08:00 PM CST<br />Description:<br />Step into an unforgettable evening where inspiration meets ambition, courage meets community, and bold women with big ideas come together to spark what&rsquo;s next.<br />
Join the <strong>DFW Alliance of Technology and Women (DFW*ATW)</strong> for our signature annual celebration &mdash; an electrifying night designed to <strong>connect, collaborate, celebrate, and elevate</strong> the incredible women shaping the future of technology in North Texas and beyond.<br />
<br />
<strong>Event Details:</strong><br />
<strong>Date: </strong>Thursday, January,15, 2026<br />
<strong>Time</strong>: 5:30 &ndash; 8:00 &ndash; Small bites and drinks will be served<br />
<strong>Location: </strong>ImageNet Consulting - <a href="https://www.imagenetconsulting.com/">https://www.imagenetconsulting.com/</a><br />
3223 Commander Drive<br />
Carrollton, TX 75006<br />
<br />
<strong>Why You Should Be There</strong>
<ol>
	<li>Celebrate the women who are breaking barriers and driving extraordinary impact</li>
	<li>Connect with industry leaders, rising stars, and powerful allies</li>
	<li>Collaborate through meaningful conversations that ignite ideas &mdash; and action</li>
	<li>Elevate your mindset, your network, and your 2026 leadership vision</li>
	<li>Enjoy an evening of fun, energy, empowerment, and unforgettable moments</li>
</ol>
<strong>2026 and Beyond Starts With Us.</strong><br />
Let&rsquo;s kick off the new year with inspiration, intention, and the unstoppable force of women rising together.<br />
<strong>Mark your calendar. Bring your brilliance. Come Celebrate &amp; Elevate with DFW*ATW.</strong><br />
<br />
<br />
&nbsp;<br />Location:<br />ImageNet Consulting<br />3223 Commander Drive<br />Carrollton, TX 75006
PRIORITY:3
TRANSP:TRANSPARENT
BEGIN:VALARM
TRIGGER:-PT5M
ACTION:DISPLAY
DESCRIPTION:Reminder
END:VALARM
END:VEVENT
END:VCALENDAR
