BEGIN:VCALENDAR
VERSION:2.0
CALSCALE:GREGORIAN
METHOD:PUBLISH
PRODID://MILW//514818
BEGIN:VEVENT
DTSTAMP:20260419T082247
VTIMEZONE:America/Chicago
DTSTART:20260602T220000Z
DTEND:20260603T013000Z
UID:514818
SUMMARY:2026 Annual Awards Celebration
LOCATION:Italian Community Center, 631 East Chicago Street, Milwaukee, WI, 53202
DESCRIPTION:2026 Annual Awards Celebration\n\n06/02/26 05:00 PM CST\n - 06/02/26 08:30 PM CST\Description:\nImpact100 Greater Milwaukee's 11th Annual Celebration!\nGather to celebrate our 2026 Impact100 grant finalists as our members vote to award  $100,000 grants!\n\n\n\nDate: Tuesday, June 2, 2026\nLocation: Italian Community Center, 631 East Chicago Street, Milwaukee, WI 53202 (complimentary surface lot parking)\nTime: 5:00-8:30 pm\n\nPlease contact events@impact100mke.org with questions.\n\Location:\nItalian Community Center\n631 East Chicago Street\nMilwaukee, WI 53202
X-ALT-DESC;FMTTYPE=text/html:2026 Annual Awards Celebration<br /><br />06/02/26 05:00 PM CST - 06/02/26 08:30 PM CST<br />Description:<br /><p style="text-align: center;"><span style="font-size:16px"><span style="color:#993399"><span style="font-family:georgia,serif">Impact100 Greater Milwaukee's 11th Annual Celebration!<br />
Gather to celebrate our 2026&nbsp;Impact100 grant finalists as our members vote to award&nbsp; $100,000 grants!</span></span></span></p>

<hr />
<p style="text-align: center;"><br />
<span style="font-size:14px"><strong id="docs-internal-guid-43b64a32-7fff-8d1f-7afb-b8edcd9cc899">Date:</strong> Tuesday, June 2, 2026<br />
<strong>Location: </strong>Italian Community Center, 631 East Chicago Street, Milwaukee, WI 53202 (complimentary surface lot parking)<br />
<strong>Time:</strong>&nbsp;5:00-8:30 pm</span><br />
<br />
<strong><span style="color:#0066cc">Please contact </span><a href="mailto:events@impact100mke.org"><span style="color:#0066cc">events@impact100mke.org</span></a><span style="color:#0066cc"> with questions.</span></strong></p>
<br />Location:<br />Italian Community Center<br />631 East Chicago Street<br />Milwaukee, WI 53202
PRIORITY:3
TRANSP:TRANSPARENT
BEGIN:VALARM
TRIGGER:-PT5M
ACTION:DISPLAY
DESCRIPTION:Reminder
END:VALARM
END:VEVENT
END:VCALENDAR
