BEGIN:VCALENDAR
VERSION:2.0
CALSCALE:GREGORIAN
METHOD:PUBLISH
PRODID://CLEV//514735
BEGIN:VEVENT
DTSTAMP:20260424T143111
VTIMEZONE:America/New_York
DTSTART:20261204T133000Z
DTEND:20261204T143000Z
UID:514735
SUMMARY:Executive Committee Meeting
LOCATION:
DESCRIPTION:Executive Committee Meeting\n\n12/04/26 08:30 AM EST\n - 12/04/26 09:30 AM EST
X-ALT-DESC;FMTTYPE=text/html:Executive Committee Meeting<br /><br />12/04/26 08:30 AM EST - 12/04/26 09:30 AM EST
PRIORITY:3
TRANSP:TRANSPARENT
BEGIN:VALARM
TRIGGER:-PT5M
ACTION:DISPLAY
DESCRIPTION:Reminder
END:VALARM
END:VEVENT
END:VCALENDAR
