BEGIN:VCALENDAR
VERSION:2.0
CALSCALE:GREGORIAN
METHOD:PUBLISH
PRODID://CLEV//514733
BEGIN:VEVENT
DTSTAMP:20260419T213453
VTIMEZONE:America/New_York
DTSTART:20261002T123000Z
DTEND:20261002T133000Z
UID:514733
SUMMARY:Executive Committee Meeting
LOCATION:
DESCRIPTION:Executive Committee Meeting\n\n10/02/26 08:30 AM EST\n - 10/02/26 09:30 AM EST
X-ALT-DESC;FMTTYPE=text/html:Executive Committee Meeting<br /><br />10/02/26 08:30 AM EST - 10/02/26 09:30 AM EST
PRIORITY:3
TRANSP:TRANSPARENT
BEGIN:VALARM
TRIGGER:-PT5M
ACTION:DISPLAY
DESCRIPTION:Reminder
END:VALARM
END:VEVENT
END:VCALENDAR
