BEGIN:VCALENDAR
VERSION:2.0
CALSCALE:GREGORIAN
METHOD:PUBLISH
PRODID://CLEV//514732
BEGIN:VEVENT
DTSTAMP:20260420T151217
VTIMEZONE:America/New_York
DTSTART:20260904T123000Z
DTEND:20260904T133000Z
UID:514732
SUMMARY:Executive Committee Meeting
LOCATION:
DESCRIPTION:Executive Committee Meeting\n\n09/04/26 08:30 AM EST\n - 09/04/26 09:30 AM EST
X-ALT-DESC;FMTTYPE=text/html:Executive Committee Meeting<br /><br />09/04/26 08:30 AM EST - 09/04/26 09:30 AM EST
PRIORITY:3
TRANSP:TRANSPARENT
BEGIN:VALARM
TRIGGER:-PT5M
ACTION:DISPLAY
DESCRIPTION:Reminder
END:VALARM
END:VEVENT
END:VCALENDAR
