BEGIN:VCALENDAR
VERSION:2.0
CALSCALE:GREGORIAN
METHOD:PUBLISH
PRODID://CLEV//514731
BEGIN:VEVENT
DTSTAMP:20260424T062737
VTIMEZONE:America/New_York
DTSTART:20260807T123000Z
DTEND:20260807T133000Z
UID:514731
SUMMARY:Executive Committee Meeting
LOCATION:
DESCRIPTION:Executive Committee Meeting\n\n08/07/26 08:30 AM EST\n - 08/07/26 09:30 AM EST
X-ALT-DESC;FMTTYPE=text/html:Executive Committee Meeting<br /><br />08/07/26 08:30 AM EST - 08/07/26 09:30 AM EST
PRIORITY:3
TRANSP:TRANSPARENT
BEGIN:VALARM
TRIGGER:-PT5M
ACTION:DISPLAY
DESCRIPTION:Reminder
END:VALARM
END:VEVENT
END:VCALENDAR
