BEGIN:VCALENDAR
VERSION:2.0
CALSCALE:GREGORIAN
METHOD:PUBLISH
PRODID://CLEV//514728
BEGIN:VEVENT
DTSTAMP:20260423T093201
VTIMEZONE:America/New_York
DTSTART:20260501T123000Z
DTEND:20260501T133000Z
UID:514728
SUMMARY:Executive Committee Meeting
LOCATION:
DESCRIPTION:Executive Committee Meeting\n\n05/01/26 08:30 AM EST\n - 05/01/26 09:30 AM EST
X-ALT-DESC;FMTTYPE=text/html:Executive Committee Meeting<br /><br />05/01/26 08:30 AM EST - 05/01/26 09:30 AM EST
PRIORITY:3
TRANSP:TRANSPARENT
BEGIN:VALARM
TRIGGER:-PT5M
ACTION:DISPLAY
DESCRIPTION:Reminder
END:VALARM
END:VEVENT
END:VCALENDAR
