BEGIN:VCALENDAR
VERSION:2.0
CALSCALE:GREGORIAN
METHOD:PUBLISH
PRODID://CLEV//514727
BEGIN:VEVENT
DTSTAMP:20260419T151722
VTIMEZONE:America/New_York
DTSTART:20260410T123000Z
DTEND:20260410T133000Z
UID:514727
SUMMARY:Executive Committee Meeting
LOCATION:
DESCRIPTION:Executive Committee Meeting\n\n04/10/26 08:30 AM EST\n - 04/10/26 09:30 AM EST
X-ALT-DESC;FMTTYPE=text/html:Executive Committee Meeting<br /><br />04/10/26 08:30 AM EST - 04/10/26 09:30 AM EST
PRIORITY:3
TRANSP:TRANSPARENT
BEGIN:VALARM
TRIGGER:-PT5M
ACTION:DISPLAY
DESCRIPTION:Reminder
END:VALARM
END:VEVENT
END:VCALENDAR
