BEGIN:VCALENDAR
VERSION:2.0
CALSCALE:GREGORIAN
METHOD:PUBLISH
PRODID://AFSW//514705
BEGIN:VEVENT
DTSTAMP:20260422T195356
VTIMEZONE:America/Chicago
DTSTART:20260514T180000Z
DTEND:20260515T010000Z
UID:514705
SUMMARY:NEW Annual Tour and Dinner
LOCATION:, WI
DESCRIPTION:NEW Annual Tour and Dinner\n\n05/14/26 01:00 PM CST\n - 05/14/26 08:00 PM CST
X-ALT-DESC;FMTTYPE=text/html:NEW Annual Tour and Dinner<br /><br />05/14/26 01:00 PM CST - 05/14/26 08:00 PM CST
PRIORITY:3
TRANSP:TRANSPARENT
BEGIN:VALARM
TRIGGER:-PT5M
ACTION:DISPLAY
DESCRIPTION:Reminder
END:VALARM
END:VEVENT
END:VCALENDAR
