BEGIN:VCALENDAR
VERSION:2.0
CALSCALE:GREGORIAN
METHOD:PUBLISH
PRODID://OWEA//514701
BEGIN:VEVENT
DTSTAMP:20260422T100904
VTIMEZONE:America/New_York
DTSTART:20260513T120000Z
DTEND:20260513T190000Z
UID:514701
SUMMARY:NWOWEA Section Meeting
LOCATION:Sandusky Wastewater Treatment Plant, 304 Harrison St., Sandusky, OH, 44870
DESCRIPTION:NWOWEA Section Meeting\n\n05/13/26 08:00 AM EST\n - 05/13/26 03:00 PM EST\Description:\nFLYER\Location:\nSandusky Wastewater Treatment Plant\n304 Harrison St.\nSandusky, OH 44870
X-ALT-DESC;FMTTYPE=text/html:NWOWEA Section Meeting<br /><br />05/13/26 08:00 AM EST - 05/13/26 03:00 PM EST<br />Description:<br /><a href="https://www.ohiowea.org/docs/NWOWEA_May_13th_2026_Section_Meeting_Agenda_Sandusky_1.docx">FLYER</a><br />Location:<br />Sandusky Wastewater Treatment Plant<br />304 Harrison St.<br />Sandusky, OH 44870
PRIORITY:3
TRANSP:TRANSPARENT
BEGIN:VALARM
TRIGGER:-PT5M
ACTION:DISPLAY
DESCRIPTION:Reminder
END:VALARM
END:VEVENT
END:VCALENDAR
