BEGIN:VCALENDAR
VERSION:2.0
CALSCALE:GREGORIAN
METHOD:PUBLISH
PRODID://CLEV//514689
BEGIN:VEVENT
DTSTAMP:20260424T040526
VTIMEZONE:America/New_York
DTSTART:20261016T130000Z
DTEND:20261016T140000Z
UID:514689
SUMMARY:Government Affairs Committee Meeting
LOCATION:
DESCRIPTION:Government Affairs Committee Meeting\n\n10/16/26 09:00 AM EST\n - 10/16/26 10:00 AM EST
X-ALT-DESC;FMTTYPE=text/html:Government Affairs Committee Meeting<br /><br />10/16/26 09:00 AM EST - 10/16/26 10:00 AM EST
PRIORITY:3
TRANSP:TRANSPARENT
BEGIN:VALARM
TRIGGER:-PT5M
ACTION:DISPLAY
DESCRIPTION:Reminder
END:VALARM
END:VEVENT
END:VCALENDAR
