BEGIN:VCALENDAR
VERSION:2.0
CALSCALE:GREGORIAN
METHOD:PUBLISH
PRODID://CLEV//514688
BEGIN:VEVENT
DTSTAMP:20260422T095341
VTIMEZONE:America/New_York
DTSTART:20260918T130000Z
DTEND:20260918T140000Z
UID:514688
SUMMARY:Government Affairs Committee Meeting
LOCATION:
DESCRIPTION:Government Affairs Committee Meeting\n\n09/18/26 09:00 AM EST\n - 09/18/26 10:00 AM EST
X-ALT-DESC;FMTTYPE=text/html:Government Affairs Committee Meeting<br /><br />09/18/26 09:00 AM EST - 09/18/26 10:00 AM EST
PRIORITY:3
TRANSP:TRANSPARENT
BEGIN:VALARM
TRIGGER:-PT5M
ACTION:DISPLAY
DESCRIPTION:Reminder
END:VALARM
END:VEVENT
END:VCALENDAR
