BEGIN:VCALENDAR
VERSION:2.0
CALSCALE:GREGORIAN
METHOD:PUBLISH
PRODID://CLEV//514684
BEGIN:VEVENT
DTSTAMP:20260423T174034
VTIMEZONE:America/New_York
DTSTART:20260515T130000Z
DTEND:20260515T140000Z
UID:514684
SUMMARY:Government Affairs Committee Meeting
LOCATION:
DESCRIPTION:Government Affairs Committee Meeting\n\n05/15/26 09:00 AM EST\n - 05/15/26 10:00 AM EST
X-ALT-DESC;FMTTYPE=text/html:Government Affairs Committee Meeting<br /><br />05/15/26 09:00 AM EST - 05/15/26 10:00 AM EST
PRIORITY:3
TRANSP:TRANSPARENT
BEGIN:VALARM
TRIGGER:-PT5M
ACTION:DISPLAY
DESCRIPTION:Reminder
END:VALARM
END:VEVENT
END:VCALENDAR
