BEGIN:VCALENDAR
VERSION:2.0
CALSCALE:GREGORIAN
METHOD:PUBLISH
PRODID://CLEV//514683
BEGIN:VEVENT
DTSTAMP:20260424T085432
VTIMEZONE:America/New_York
DTSTART:20260417T130000Z
DTEND:20260417T140000Z
UID:514683
SUMMARY:Government Affairs Committee Meeting
LOCATION:
DESCRIPTION:Government Affairs Committee Meeting\n\n04/17/26 09:00 AM EST\n - 04/17/26 10:00 AM EST
X-ALT-DESC;FMTTYPE=text/html:Government Affairs Committee Meeting<br /><br />04/17/26 09:00 AM EST - 04/17/26 10:00 AM EST
PRIORITY:3
TRANSP:TRANSPARENT
BEGIN:VALARM
TRIGGER:-PT5M
ACTION:DISPLAY
DESCRIPTION:Reminder
END:VALARM
END:VEVENT
END:VCALENDAR
