BEGIN:VCALENDAR
VERSION:2.0
CALSCALE:GREGORIAN
METHOD:PUBLISH
PRODID://CLEV//514609
BEGIN:VEVENT
DTSTAMP:20260420T180914
VTIMEZONE:America/New_York
DTSTART:20261124T140000Z
DTEND:20261124T150000Z
UID:514609
SUMMARY:Associates Council Meeting
LOCATION:BOMA Office, 6480 Rockside Woods S, Suite 135, Independence, OH, 44131
DESCRIPTION:Associates Council Meeting\n\n11/24/26 09:00 AM EST\n - 11/24/26 10:00 AM EST\Location:\nBOMA Office\n6480 Rockside Woods S, Suite 135\nIndependence, OH 44131
X-ALT-DESC;FMTTYPE=text/html:Associates Council Meeting<br /><br />11/24/26 09:00 AM EST - 11/24/26 10:00 AM EST<br />Location:<br />BOMA Office<br />6480 Rockside Woods S, Suite 135<br />Independence, OH 44131
PRIORITY:3
TRANSP:TRANSPARENT
BEGIN:VALARM
TRIGGER:-PT5M
ACTION:DISPLAY
DESCRIPTION:Reminder
END:VALARM
END:VEVENT
END:VCALENDAR
