BEGIN:VCALENDAR
VERSION:2.0
CALSCALE:GREGORIAN
METHOD:PUBLISH
PRODID://CLEV//514592
BEGIN:VEVENT
DTSTAMP:20260421T045655
VTIMEZONE:America/New_York
DTSTART:20261208T160000Z
DTEND:20261208T170000Z
UID:514592
SUMMARY:Professional Development Committee Meeting
LOCATION:
DESCRIPTION:Professional Development Committee Meeting\n\n12/08/26 11:00 AM EST\n - 12/08/26 12:00 PM EST
X-ALT-DESC;FMTTYPE=text/html:Professional Development Committee Meeting<br /><br />12/08/26 11:00 AM EST - 12/08/26 12:00 PM EST
PRIORITY:3
TRANSP:TRANSPARENT
BEGIN:VALARM
TRIGGER:-PT5M
ACTION:DISPLAY
DESCRIPTION:Reminder
END:VALARM
END:VEVENT
END:VCALENDAR
