BEGIN:VCALENDAR
VERSION:2.0
CALSCALE:GREGORIAN
METHOD:PUBLISH
PRODID://CLEV//514578
BEGIN:VEVENT
DTSTAMP:20260424T062031
VTIMEZONE:America/New_York
DTSTART:20260707T200000Z
DTEND:20260707T210000Z
UID:514578
SUMMARY:Programs Committee Meeting
LOCATION:
DESCRIPTION:Programs Committee Meeting\n\n07/07/26 04:00 PM EST\n - 07/07/26 05:00 PM EST
X-ALT-DESC;FMTTYPE=text/html:Programs Committee Meeting<br /><br />07/07/26 04:00 PM EST - 07/07/26 05:00 PM EST
PRIORITY:3
TRANSP:TRANSPARENT
BEGIN:VALARM
TRIGGER:-PT5M
ACTION:DISPLAY
DESCRIPTION:Reminder
END:VALARM
END:VEVENT
END:VCALENDAR
