BEGIN:VCALENDAR
VERSION:2.0
CALSCALE:GREGORIAN
METHOD:PUBLISH
PRODID://CLEV//514577
BEGIN:VEVENT
DTSTAMP:20260420T151821
VTIMEZONE:America/New_York
DTSTART:20260602T200000Z
DTEND:20260602T210000Z
UID:514577
SUMMARY:Programs Committee Meeting
LOCATION:
DESCRIPTION:Programs Committee Meeting\n\n06/02/26 04:00 PM EST\n - 06/02/26 05:00 PM EST
X-ALT-DESC;FMTTYPE=text/html:Programs Committee Meeting<br /><br />06/02/26 04:00 PM EST - 06/02/26 05:00 PM EST
PRIORITY:3
TRANSP:TRANSPARENT
BEGIN:VALARM
TRIGGER:-PT5M
ACTION:DISPLAY
DESCRIPTION:Reminder
END:VALARM
END:VEVENT
END:VCALENDAR
