BEGIN:VCALENDAR
VERSION:2.0
CALSCALE:GREGORIAN
METHOD:PUBLISH
PRODID://CLEV//514570
BEGIN:VEVENT
DTSTAMP:20260421T215135
VTIMEZONE:America/New_York
DTSTART:20261215T133000Z
DTEND:20261215T143000Z
UID:514570
SUMMARY:Board of Directors Meeting
LOCATION:
DESCRIPTION:Board of Directors Meeting\n\n12/15/26 08:30 AM EST\n - 12/15/26 09:30 AM EST
X-ALT-DESC;FMTTYPE=text/html:Board of Directors Meeting<br /><br />12/15/26 08:30 AM EST - 12/15/26 09:30 AM EST
PRIORITY:3
TRANSP:TRANSPARENT
BEGIN:VALARM
TRIGGER:-PT5M
ACTION:DISPLAY
DESCRIPTION:Reminder
END:VALARM
END:VEVENT
END:VCALENDAR
