BEGIN:VCALENDAR
VERSION:2.0
CALSCALE:GREGORIAN
METHOD:PUBLISH
PRODID://CLEV//514569
BEGIN:VEVENT
DTSTAMP:20260420T133113
VTIMEZONE:America/New_York
DTSTART:20261117T133000Z
DTEND:20261117T143000Z
UID:514569
SUMMARY:Board of Directors Meeting
LOCATION:
DESCRIPTION:Board of Directors Meeting\n\n11/17/26 08:30 AM EST\n - 11/17/26 09:30 AM EST
X-ALT-DESC;FMTTYPE=text/html:Board of Directors Meeting<br /><br />11/17/26 08:30 AM EST - 11/17/26 09:30 AM EST
PRIORITY:3
TRANSP:TRANSPARENT
BEGIN:VALARM
TRIGGER:-PT5M
ACTION:DISPLAY
DESCRIPTION:Reminder
END:VALARM
END:VEVENT
END:VCALENDAR
