BEGIN:VCALENDAR
VERSION:2.0
CALSCALE:GREGORIAN
METHOD:PUBLISH
PRODID://CLEV//514567
BEGIN:VEVENT
DTSTAMP:20260424T210052
VTIMEZONE:America/New_York
DTSTART:20260818T123000Z
DTEND:20260818T133000Z
UID:514567
SUMMARY:Board of Directors Meeting
LOCATION:
DESCRIPTION:Board of Directors Meeting\n\n08/18/26 08:30 AM EST\n - 08/18/26 09:30 AM EST
X-ALT-DESC;FMTTYPE=text/html:Board of Directors Meeting<br /><br />08/18/26 08:30 AM EST - 08/18/26 09:30 AM EST
PRIORITY:3
TRANSP:TRANSPARENT
BEGIN:VALARM
TRIGGER:-PT5M
ACTION:DISPLAY
DESCRIPTION:Reminder
END:VALARM
END:VEVENT
END:VCALENDAR
