BEGIN:VCALENDAR
VERSION:2.0
CALSCALE:GREGORIAN
METHOD:PUBLISH
PRODID://CLEV//514564
BEGIN:VEVENT
DTSTAMP:20260423T173542
VTIMEZONE:America/New_York
DTSTART:20260421T123000Z
DTEND:20260421T133000Z
UID:514564
SUMMARY:Board of Directors Meeting
LOCATION:
DESCRIPTION:Board of Directors Meeting\n\n04/21/26 08:30 AM EST\n - 04/21/26 09:30 AM EST
X-ALT-DESC;FMTTYPE=text/html:Board of Directors Meeting<br /><br />04/21/26 08:30 AM EST - 04/21/26 09:30 AM EST
PRIORITY:3
TRANSP:TRANSPARENT
BEGIN:VALARM
TRIGGER:-PT5M
ACTION:DISPLAY
DESCRIPTION:Reminder
END:VALARM
END:VEVENT
END:VCALENDAR
