BEGIN:VCALENDAR
VERSION:2.0
CALSCALE:GREGORIAN
METHOD:PUBLISH
PRODID://MWEA//514310
BEGIN:VEVENT
DTSTAMP:20260423T114029
VTIMEZONE:America/New_York
DTSTART:20260515T140000Z
DTEND:20260515T160000Z
UID:514310
SUMMARY:Local Section 7 Lunch and Learn - Northern Industrial - Bearing Training
LOCATION:City of Charlotte â€“ Westside Fire Station, 911 West Shepherd, Charlotte, MI, 48813
DESCRIPTION:Local Section 7 Lunch and Learn - Northern Industrial - Bearing Training\n\n05/15/26 10:00 AM EST\n - 05/15/26 12:00 PM EST\Description:\nMWEA Local Section 7 Lunch & Learn - with Northern Industrial Supply - Bearing Training \n\nPresenter: Brady Wheeler\n\nWastewater CECs: 0.1 Other\n\nFREE TO ATTEND!\n \nWhen:  May 15th 2026 @ 10:00AM\nWhere: City of Charlotte – Westside Fire Station\n             911 West Shepherd\n             Charlotte, MI  48813\n\nEVENT FLYER\n\nNORTHERN INDUSTRIAL SUPPLY WILL PROVIDE AN OVERVIEW WHO THEY ARE AND SERVICES THAT THEY PROVIDE. CHARLES FROM DODGE WILL GIVE AN OVERVIEW OF BEARINGS AND INSTALLATION. CHARLES WILL ALSO BE SPEAKING ON GEARBOXES AND COUPLINGS. \n\nLUNCH WILL BE PROVIDED\n \n\nPLEASE RSVP BY May 12TH to\nMatt Griffith: mgriffith@charlottemi.org or (517) 231-2324.\n\Location:\nCity of Charlotte â€“ Westside Fire Station\n911 West Shepherd\nCharlotte, MI 48813
X-ALT-DESC;FMTTYPE=text/html:Local Section 7 Lunch and Learn - Northern Industrial - Bearing Training<br /><br />05/15/26 10:00 AM EST - 05/15/26 12:00 PM EST<br />Description:<br /><div style="text-align: center;"><strong><span style="font-size:20px">MWEA Local Section 7 Lunch &amp; Learn - with Northern Industrial Supply - Bearing Training&nbsp;</span></strong></div>

<div style="text-align: center;"><span style="font-size:18px">Presenter:&nbsp;</span><span style="font-size:16px">Brady&nbsp;Wheeler</span></div>

<div style="text-align: center;"><span style="font-size:16px">Wastewater CECs:&nbsp;0.1 Other</span></div>

<div style="text-align: center;"><span style="font-size:16px"><strong>FREE TO ATTEND!</strong></span><br />
&nbsp;</div>
<span style="font-size:16px">When:&nbsp; May 15<sup>th</sup> 2026 @ 10:00AM<br />
Where:&nbsp;City of Charlotte &ndash; Westside Fire Station<br />
&nbsp; &nbsp; &nbsp; &nbsp; &nbsp; &nbsp; &nbsp;911 West Shepherd<br />
&nbsp; &nbsp; &nbsp; &nbsp; &nbsp; &nbsp; &nbsp;Charlotte, MI&nbsp; 48813</span>

<div style="text-align: center;"><span style="font-size:16px"><a class="simple-button-plugin" href="http://www.mi-wea.org/docs/MWEA-Northern_Industrial_Supply-Dodge_Industrial_Training_2026.pdf" style="display: inline-block; background-color: rgb(39, 174, 97); border: 1px solid rgb(39, 174, 97); padding: 10px 20px; border-radius: 10px; font-size: 24px; cursor: pointer; color: rgb(255, 255, 255) !important; text-decoration: none !important;" target="_blank">EVENT FLYER</a></span></div>

<h2><span style="font-size:16px">NORTHERN INDUSTRIAL SUPPLY&nbsp;WILL PROVIDE AN OVERVIEW WHO THEY ARE AND SERVICES THAT THEY PROVIDE. CHARLES FROM DODGE WILL GIVE AN OVERVIEW OF BEARINGS AND INSTALLATION. CHARLES WILL ALSO BE SPEAKING ON GEARBOXES AND COUPLINGS.&nbsp;</span></h2>

<div style="text-align: center;"><span style="font-size:16px">LUNCH WILL BE PROVIDED</span></div>
&nbsp;

<div style="text-align: center;"><strong><span style="font-size:18px">PLEASE RSVP BY May&nbsp;12<sup>TH</sup>&nbsp;to<br />
Matt Griffith:&nbsp;<a href="mailto:mgriffith@charlottemi.org">mgriffith@charlottemi.org</a> or (517) 231-2324.</span></strong></div>
<br />Location:<br />City of Charlotte â€“ Westside Fire Station<br />911 West Shepherd<br />Charlotte, MI 48813
PRIORITY:3
TRANSP:TRANSPARENT
BEGIN:VALARM
TRIGGER:-PT5M
ACTION:DISPLAY
DESCRIPTION:Reminder
END:VALARM
END:VEVENT
END:VCALENDAR
