BEGIN:VCALENDAR
VERSION:2.0
CALSCALE:GREGORIAN
METHOD:PUBLISH
PRODID://CLEV//514281
BEGIN:VEVENT
DTSTAMP:20260423T110844
VTIMEZONE:America/New_York
DTSTART:20260420T200000Z
DTEND:20260421T000000Z
UID:514281
SUMMARY:2026 Annual TopGolf Event 
LOCATION:TopGolf - Independence, 5820 Rockside Woods Blvd N, , OH 44131, Independence, OH, 44131
DESCRIPTION:2026 Annual TopGolf Event \n\n04/20/26 04:00 PM EST\n - 04/20/26 08:00 PM EST\Description:\nTee off the golf season with BOMA Northeast Ohio's TopGolf event on Monday, April 20th! \n\nPlay a variety of games while you enjoy food, beverages and climate-controlled hitting bays.  Whether you are a seasoned professional or a first-time golfer, this outing is fun for any skill level!\n\nThis Event Sold Out Quickly Last Year - Don't Wait - Register Today!\n\nWe will have two rounds of golf again this year and NEW THIS YEAR - Choose to play in either the first or second round!\n\nBe sure to register early as spots are limited for both rounds and we sold out quickly last year!\n\nTo add to the fun, we will have a Golf Pro on hand!  Whether you play the first round and get tips from the Pro to improve on your game or play in the second round and get those tips before you play, this will be fun addition in the Chairman’s Suite! \n\nWe've also elevated our food options on the buffet that is included with your ticket and everyone receives two drink tickets and bottomless soda and water.\n\nOur Suite opens up to our golf bays, providing lots of opportunity to mingle and network in between golf!  After both rounds of golf, the scores will be tallied and the top 3 scoring teams of the night will receive a trophy, sponsored by Neptune Plumbing and Heating Co!\n\nEvent Details:\nMonday, April 20th from 4:00 – 8:00 pm\n\nTopgolf, Independence\n5820 Rockside Woods Blvd N, Independence, OH 44131\nThird Floor - Chairman’s Suite and Golf Bays\n\n3:45 pm     Check-In at the 3rd Floor Registration Table\n4:15 pm    1st round of golf starts\n6:00 pm    2nd round of golf starts\nEach round will have an hour and a half of play time!\n\n* Registration ends April 13th\n\Location:\nTopGolf - Independence\n5820 Rockside Woods Blvd N, , OH 44131\nIndependence, OH 44131
X-ALT-DESC;FMTTYPE=text/html:2026 Annual TopGolf Event <br /><br />04/20/26 04:00 PM EST - 04/20/26 08:00 PM EST<br />Description:<br /><h1 style="text-align: center;"><span style="font-size:18px">Tee off the golf season with BOMA Northeast Ohio's TopGolf event on Monday, April 20th!&nbsp;</span></h1>

<div>Play a variety of games while you enjoy food, beverages and climate-controlled hitting bays.&nbsp; Whether you are a seasoned professional or a first-time golfer, this outing is fun for any skill level!</div>

<h4 style="text-align: center;"><span style="font-size:18px"><strong>This Event Sold Out Quickly Last Year -&nbsp;Don't Wait - Register Today!</strong></span></h4>

<p>We will have two rounds of golf again this year and&nbsp;<strong>NEW THIS YEAR - C</strong>hoose to play in either the first or second round!<br />
<br />
<span style="font-size:16px"><strong>Be sure to register early as spots are limited for both rounds and we sold out quickly last year!</strong></span><br />
<br />
To add to the fun, we&nbsp;will have a Golf Pro on hand!&nbsp; Whether you play the first round and get tips from the Pro to improve on your game or play in the second round and get those tips before you play, this will be fun addition in the Chairman&rsquo;s Suite!&nbsp;<br />
<br />
We've also <strong>elevated our food options</strong>&nbsp;on the buffet that is included with your ticket and everyone receives&nbsp;two drink tickets and bottomless soda and water.<br />
<br />
Our Suite opens up to our golf bays, providing lots of opportunity to mingle and network in between golf!&nbsp; After both rounds of golf, the scores will be tallied and the top 3 scoring teams of the night will receive a trophy, sponsored by Neptune Plumbing and Heating Co!<br />
<br />
<strong>Event Details:</strong><br />
Monday, April 20<sup>th</sup> from 4:00 &ndash; 8:00 pm<br />
<br />
Topgolf, Independence<br />
5820 Rockside Woods Blvd N, Independence, OH 44131<br />
Third Floor - Chairman&rsquo;s Suite and Golf Bays<br />
<br />
3:45 pm &nbsp;&nbsp;&nbsp;&nbsp;Check-In at the 3rd Floor Registration Table<br />
4:15 pm&nbsp;&nbsp;&nbsp;&nbsp;1st round of golf starts<br />
6:00 pm&nbsp;&nbsp;&nbsp;&nbsp;2nd round&nbsp;of golf starts<br />
Each round will have an hour and a half of play time!<br />
<br />
<em>* Registration ends April 13th</em></p>
<br />Location:<br />TopGolf - Independence<br />5820 Rockside Woods Blvd N, , OH 44131<br />Independence, OH 44131
PRIORITY:3
TRANSP:TRANSPARENT
BEGIN:VALARM
TRIGGER:-PT5M
ACTION:DISPLAY
DESCRIPTION:Reminder
END:VALARM
END:VEVENT
END:VCALENDAR
