BEGIN:VCALENDAR
VERSION:2.0
CALSCALE:GREGORIAN
METHOD:PUBLISH
PRODID://ERWW//514202
BEGIN:VEVENT
DTSTAMP:20260421T211311
VTIMEZONE:America/Los_Angeles
DTSTART:20260825T150000Z
DTEND:20260827T233000Z
UID:514202
SUMMARY:2026 Fall Conference and Tradeshow
LOCATION:Yakima Convention Center, 10 N 8th Street, Yakima, WA, 98901
DESCRIPTION:2026 Fall Conference and Tradeshow\n\n08/25/26 08:00 AM PST\n - 08/27/26 04:30 PM PST\Description:\nERWoW encourages Operators, Utility Board Members, Mayors, Council Members, Public Works Directors, and other leaders to attend our conference. We have specific classes scheduled to help officials in their responsibilities as managers of their community's most important assets. It is imperative that today's leaders have a firm understanding of their role in their water and wastewater utility systems. Please plan on attending!\n\nYou can typically earn up to 1.6 CEUs in water and wastewater!  \nCosts: ERWoW Members $375 / Non Members: $450\n \Location:\nYakima Convention Center\n10 N 8th Street\nYakima, WA 98901
X-ALT-DESC;FMTTYPE=text/html:2026 Fall Conference and Tradeshow<br /><br />08/25/26 08:00 AM PST - 08/27/26 04:30 PM PST<br />Description:<br />ERWoW encourages Operators, Utility Board Members, Mayors, Council Members, Public Works Directors, and other leaders to attend our conference. We have specific classes scheduled to help officials in their responsibilities as managers of their community's most important assets. It is imperative that today's leaders have a firm understanding of their role in their water and wastewater utility systems. Please plan on attending!<br />
<br />
You can typically earn up to 1.6 CEUs in water and wastewater!&nbsp;&nbsp;<br />
Costs: ERWoW Members $375 / Non Members: $450<br />
&nbsp;<br />Location:<br />Yakima Convention Center<br />10 N 8th Street<br />Yakima, WA 98901
PRIORITY:3
TRANSP:TRANSPARENT
BEGIN:VALARM
TRIGGER:-PT5M
ACTION:DISPLAY
DESCRIPTION:Reminder
END:VALARM
END:VEVENT
END:VCALENDAR
