BEGIN:VCALENDAR
VERSION:2.0
CALSCALE:GREGORIAN
METHOD:PUBLISH
PRODID://SDDC//513980
BEGIN:VEVENT
DTSTAMP:20260420T045626
VTIMEZONE:America/Chicago
DTSTART:20260707T200000Z
DTEND:20260707T210000Z
UID:513980
SUMMARY:Deadliest Predator Summer Science Show (3pm)
LOCATION:South Dakota Discovery Center, 805 W Sioux Ave, Pierre, So, 57501
DESCRIPTION:Deadliest Predator Summer Science Show (3pm)\n\n07/07/26 03:00 PM CST\n - 07/07/26 04:00 PM CST\Location:\nSouth Dakota Discovery Center\n805 W Sioux Ave\nPierre, So 57501
X-ALT-DESC;FMTTYPE=text/html:Deadliest Predator Summer Science Show (3pm)<br /><br />07/07/26 03:00 PM CST - 07/07/26 04:00 PM CST<br />Location:<br />South Dakota Discovery Center<br />805 W Sioux Ave<br />Pierre, So 57501
PRIORITY:3
TRANSP:TRANSPARENT
BEGIN:VALARM
TRIGGER:-PT5M
ACTION:DISPLAY
DESCRIPTION:Reminder
END:VALARM
END:VEVENT
END:VCALENDAR
