BEGIN:VCALENDAR
VERSION:2.0
CALSCALE:GREGORIAN
METHOD:PUBLISH
PRODID://NAAS//511744
BEGIN:VEVENT
DTSTAMP:20260422T051937
VTIMEZONE:America/New_York
DTSTART:20260601T190000Z
DTEND:20260601T200000Z
UID:511744
SUMMARY:Member Services Committee
LOCATION:
DESCRIPTION:Member Services Committee\n\n06/01/26 03:00 PM EST\n - 06/01/26 04:00 PM EST\Description:\nMember Services Committee meets monthly on the 1st Monday at 3pmET. If interested in joining the NAAS Member Services Committee, contact admin@academiesofscience.org for more details.
X-ALT-DESC;FMTTYPE=text/html:Member Services Committee<br /><br />06/01/26 03:00 PM EST - 06/01/26 04:00 PM EST<br />Description:<br />Member Services Committee meets monthly on the 1st Monday at 3pmET. If interested in joining the NAAS Member Services Committee, contact admin@academiesofscience.org for more details.
PRIORITY:3
TRANSP:TRANSPARENT
BEGIN:VALARM
TRIGGER:-PT5M
ACTION:DISPLAY
DESCRIPTION:Reminder
END:VALARM
END:VEVENT
END:VCALENDAR
