BEGIN:VCALENDAR
VERSION:2.0
CALSCALE:GREGORIAN
METHOD:PUBLISH
PRODID://ALSC//511731
BEGIN:VEVENT
DTSTAMP:20260423T205225
VTIMEZONE:America/Los_Angeles
DTSTART:20260506T180000Z
DTEND:20260506T184500Z
UID:511731
SUMMARY:Webinar: Chattel Collateral 
LOCATION:
DESCRIPTION:Webinar: Chattel Collateral \n\n05/06/26 11:00 AM PST\n - 05/06/26 11:45 AM PST\Description:\nAg Lenders Webinar Series: Chattel Collateral\nA brief look at what can go wrong with crop, livestock, dairy and product inventories.\n\nDate: April 29th, 2026\nTime: 11:00 AM - 11:45 AM\nPresented by: Roy Martin, Co-Director \nAg Lenders Institute (ALI)\n 
X-ALT-DESC;FMTTYPE=text/html:Webinar: Chattel Collateral <br /><br />05/06/26 11:00 AM PST - 05/06/26 11:45 AM PST<br />Description:<br /><strong>Ag Lenders Webinar Series: Chattel Collateral</strong><br />
<em><strong>A brief look at what can go wrong with crop, livestock, dairy and product inventories.</strong></em><br />
<br />
<strong>Date</strong>: April 29th, 2026<br />
<strong>Time</strong>: 11:00 AM - 11:45 AM<br />
<strong>Presented by:&nbsp;</strong>Roy Martin, Co-Director&nbsp;<br />
Ag Lenders Institute (ALI)<br />
&nbsp;
PRIORITY:3
TRANSP:TRANSPARENT
BEGIN:VALARM
TRIGGER:-PT5M
ACTION:DISPLAY
DESCRIPTION:Reminder
END:VALARM
END:VEVENT
END:VCALENDAR
