BEGIN:VCALENDAR
VERSION:2.0
CALSCALE:GREGORIAN
METHOD:PUBLISH
PRODID://CLEV//511430
BEGIN:VEVENT
DTSTAMP:20260423T052912
VTIMEZONE:America/New_York
DTSTART:20260507T200000Z
DTEND:20260507T230000Z
UID:511430
SUMMARY:2nd Quarter 2026 Associate Council Happy Hour
LOCATION:Pins Mechanical, 1880 W 25th St, Cleveland, OH, 44113
DESCRIPTION:2nd Quarter 2026 Associate Council Happy Hour\n\n05/07/26 04:00 PM EST\n - 05/07/26 07:00 PM EST\Description:\nPlease join your fellow BOMA Northeast Ohio Members for an evening of networking, refreshments, and good company at our Spring Associates Council Happy Hour!\nThis event will offer a relaxed environment to connect with colleagues and industry peers over drinks and appetizers!  Challange your skills with duckpin bowling, pinball or arcade games! Whether you're looking to strengthen existing relationships or build new ones, we hope you'll take advantage of this opportunity to engage with Your BOMA community.\n \Location:\nPins Mechanical\n1880 W 25th St\nCleveland, OH 44113
X-ALT-DESC;FMTTYPE=text/html:2nd Quarter 2026 Associate Council Happy Hour<br /><br />05/07/26 04:00 PM EST - 05/07/26 07:00 PM EST<br />Description:<br />Please join your fellow BOMA Northeast Ohio Members for an evening of networking, refreshments, and good company at our Spring Associates Council Happy Hour!<br />
This event will offer a relaxed environment to connect with colleagues and industry peers over drinks and appetizers!&nbsp; Challange your skills with duckpin bowling, pinball or arcade games! Whether you're looking to strengthen existing relationships or build new ones, we hope you'll take advantage of this opportunity to engage with Your BOMA community.<br />
&nbsp;<br />Location:<br />Pins Mechanical<br />1880 W 25th St<br />Cleveland, OH 44113
PRIORITY:3
TRANSP:TRANSPARENT
BEGIN:VALARM
TRIGGER:-PT5M
ACTION:DISPLAY
DESCRIPTION:Reminder
END:VALARM
END:VEVENT
END:VCALENDAR
