BEGIN:VCALENDAR
VERSION:2.0
CALSCALE:GREGORIAN
METHOD:PUBLISH
PRODID://CLEV//511257
BEGIN:VEVENT
DTSTAMP:20260424T001044
VTIMEZONE:America/New_York
DTSTART:20261119T210000Z
DTEND:20261120T000000Z
UID:511257
SUMMARY:BOMA Northeast Ohio Annual Business Meeting
LOCATION:
DESCRIPTION:BOMA Northeast Ohio Annual Business Meeting\n\n11/19/26 04:00 PM EST\n - 11/19/26 07:00 PM EST
X-ALT-DESC;FMTTYPE=text/html:BOMA Northeast Ohio Annual Business Meeting<br /><br />11/19/26 04:00 PM EST - 11/19/26 07:00 PM EST
PRIORITY:3
TRANSP:TRANSPARENT
BEGIN:VALARM
TRIGGER:-PT5M
ACTION:DISPLAY
DESCRIPTION:Reminder
END:VALARM
END:VEVENT
END:VCALENDAR
