BEGIN:VCALENDAR
VERSION:2.0
CALSCALE:GREGORIAN
METHOD:PUBLISH
PRODID://VETF//511116
BEGIN:VEVENT
DTSTAMP:20260424T060926
VTIMEZONE:America/Halifax
DTSTART:20260418T163000Z
DTEND:20260418T173000Z
UID:511116
SUMMARY:[NB] Aqua Zumba Teal Poppies 
LOCATION:
DESCRIPTION:[NB] Aqua Zumba Teal Poppies \n\n04/18/26 01:30 PM ATL\n - 04/18/26 02:30 PM ATL\Description:\nðŸŒŠ Turn your workout into a pool party!\n\nLooking for a fun way to stay active without the strain? Grab a friend and try an aqua Zumba class that brings the energy of dance fitness into the water—keeping things light on your joints while still giving you a great workout.\n\n \n\nMove, splash, and smile your way through every session with upbeat music and easy-to-follow routines. Whether you’re a beginner or just want to try something new, this is your chance to dive in!\n\n \n\nðŸ’§ Come for the fitness, stay for the fun.\n\nðŸ“… April 18 & 25\n\nâ° 1330hrs\n\nðŸ“ 79 Carrington Lane, Fredericton, NB\n\nJump in and make waves with us—spots are limited!\n
X-ALT-DESC;FMTTYPE=text/html:[NB] Aqua Zumba Teal Poppies <br /><br />04/18/26 01:30 PM ATL - 04/18/26 02:30 PM ATL<br />Description:<br /><p>ðŸŒŠ Turn your workout into a pool party!</p>

<p>Looking for a fun way to stay active without the strain? Grab a friend and try an aqua Zumba class that brings the energy of dance fitness into the water&mdash;keeping things light on your joints while still giving you a great workout.</p>

<p>&nbsp;</p>

<p>Move, splash, and smile your way through every session with upbeat music and easy-to-follow routines. Whether you&rsquo;re a beginner or just want to try something new, this is your chance to dive in!</p>

<p>&nbsp;</p>

<p>ðŸ’§ Come for the fitness, stay for the fun.</p>

<p>ðŸ“… April 18 &amp; 25</p>

<p>â° 1330hrs</p>

<p>ðŸ“ 79 Carrington Lane, Fredericton, NB</p>

<p>Jump in and make waves with us&mdash;spots are limited!</p>

PRIORITY:3
TRANSP:TRANSPARENT
BEGIN:VALARM
TRIGGER:-PT5M
ACTION:DISPLAY
DESCRIPTION:Reminder
END:VALARM
END:VEVENT
END:VCALENDAR
