BEGIN:VCALENDAR
VERSION:2.0
CALSCALE:GREGORIAN
METHOD:PUBLISH
PRODID://VETF//511115
BEGIN:VEVENT
DTSTAMP:20260425T193219
VTIMEZONE:America/Halifax
DTSTART:20260415T160000Z
DTEND:20260415T180000Z
UID:511115
SUMMARY:[NB] Breakout Saint John
LOCATION:
DESCRIPTION:[NB] Breakout Saint John\n\n04/15/26 01:00 PM ATL\n - 04/15/26 03:00 PM ATL\Description:\nðŸ” Saint John, get ready—TVF is hosting an event in your area!\n\nThink you’ve got what it takes to break out? Put your skills to the test in Captain Kidd’s Lost Treasure, an immersive escape-style adventure where teamwork is everything. Follow clues, crack puzzles, and beat the clock to uncover hidden treasure before time runs out.\n\nðŸ—“ Wednesday, April 15\nâ° 1:00 PM\nðŸ“ 212 McAllister Dr, Saint John, NB\n\nGather your crew and join the challenge!\n
X-ALT-DESC;FMTTYPE=text/html:[NB] Breakout Saint John<br /><br />04/15/26 01:00 PM ATL - 04/15/26 03:00 PM ATL<br />Description:<br /><p data-end="147" data-start="84">ðŸ” Saint John, get ready&mdash;TVF is hosting an event in your area!</p>

<p data-end="419" data-start="149">Think you&rsquo;ve got what it takes to break out? Put your skills to the test in <em data-end="255" data-start="225">Captain Kidd&rsquo;s Lost Treasure</em>, an immersive escape-style adventure where teamwork is everything. Follow clues, crack puzzles, and beat the clock to uncover hidden treasure before time runs out.</p>

<p data-end="496" data-start="421">ðŸ—“ Wednesday, April 15<br data-end="446" data-start="443" />
â° 1:00 PM<br data-end="458" data-start="455" />
ðŸ“ 212 McAllister Dr, Saint John, NB</p>

<p data-end="582" data-start="498">Gather your crew and join the challenge!</p>

PRIORITY:3
TRANSP:TRANSPARENT
BEGIN:VALARM
TRIGGER:-PT5M
ACTION:DISPLAY
DESCRIPTION:Reminder
END:VALARM
END:VEVENT
END:VCALENDAR
