BEGIN:VCALENDAR
VERSION:2.0
CALSCALE:GREGORIAN
METHOD:PUBLISH
PRODID://NAAS//509973
BEGIN:VEVENT
DTSTAMP:20260423T233747
VTIMEZONE:America/New_York
DTSTART:20260527T150000Z
DTEND:20260527T160000Z
UID:509973
SUMMARY:Governance Committee
LOCATION:
DESCRIPTION:Governance Committee\n\n05/27/26 11:00 AM EST\n - 05/27/26 12:00 PM EST\Description:\nGovernance Committee meets monthly on the last Wednesday at 11amET. If interested in joining the NAAS Governance Committee, contact admin@academiesofscience.org for more details.
X-ALT-DESC;FMTTYPE=text/html:Governance Committee<br /><br />05/27/26 11:00 AM EST - 05/27/26 12:00 PM EST<br />Description:<br />Governance Committee meets monthly on the last Wednesday at 11amET. If interested in joining the NAAS Governance Committee, contact admin@academiesofscience.org for more details.
PRIORITY:3
TRANSP:TRANSPARENT
BEGIN:VALARM
TRIGGER:-PT5M
ACTION:DISPLAY
DESCRIPTION:Reminder
END:VALARM
END:VEVENT
END:VCALENDAR
