BEGIN:VCALENDAR
VERSION:2.0
CALSCALE:GREGORIAN
METHOD:PUBLISH
PRODID://NAWE//508920
BEGIN:VEVENT
DTSTAMP:20260422T064037
VTIMEZONE:America/New_York
DTSTART:20260518T220000Z
DTEND:20260522T220000Z
UID:508920
SUMMARY:NAWE on the Hill
LOCATION:Hotel Washington, 515 15th Street NW, Washington, DC, 20004
DESCRIPTION:NAWE on the Hill\n\n05/18/26 06:00 PM EST\n - 05/22/26 06:00 PM EST\Description:\nJoin the National Association of Waterfront Employers from May 18-22, 2026 for our annual fly-in, NAWE on the Hill. This three-day event will bring together NAWE members in Washington, D.C. to blanket Capitol Hill and advocate for NAWE's legislative priorities to Members of Congress and their staffs. NAWE on the Hill is our opportunity to connect face to face with leaders in Congress and federal agencies to introduce ourselves, build relationships with staffers, and elevate our priorities and initiatives. A draft itinerary of the week is listed below. \n \nDRAFT ITINERARY\n** - Details set to be finalized soon\n\nMonday, May 18 \n\n\n	\n	Attendees arrive to town \n	\n\n\nTuesday, May 19 \n\n\n	10:00am – NAWE on the Hill Prep Session\n	\n		â€‹In this meeting, we will cover our 2026 legislative priorities, teams, talking points, effective meeting tips, and answer any questions you may have. \n	\n	\n	2:00pm – 5:00pm – NAWE Board of Directors Meeting \n	**6:45pm – NY Mets v. Washington Nationals \n	\n		We are looking into reserving group tickets to the Washington Nationals baseball game in Navy Yard. Tickets will need to be individually paid for and the NAWE team will communicate more booking details soon. \n	\n	\n\n\nWednesday, May 20 \n\n\n	Breakfast \n	9:00am – Group photo on Capitol Steps (Senate Side) \n	9:30am – 5:00pm – Meetings on Capitol Hill  \n	5:30pm – 7:30pm – National Maritime Day Reception on Capitol Hill \n\n\nThursday, May 21 \n\n\n	Breakfast \n	9:00am – 5:00pm – Meetings on Capitol Hill \n	**5:00pm – Informal Happy Hour at Hawk ‘n’ Dove \n\n\nFriday, May 22 – National Maritime Day \n\n\n	**9:00am – Tee Time at The Country Club Woodmore (12320 Pleasant Prospect, Mitchelville, MD 20721) \n	We are working to finalize a tee time for those who are interested in participating in a round of golf with industry colleagues.\n\n\Location:\nHotel Washington\n515 15th Street NW\nWashington, DC 20004
X-ALT-DESC;FMTTYPE=text/html:NAWE on the Hill<br /><br />05/18/26 06:00 PM EST - 05/22/26 06:00 PM EST<br />Description:<br />Join the National Association of Waterfront Employers from May 18-22, 2026 for our annual fly-in, NAWE on the Hill. This three-day event will bring together NAWE members in Washington, D.C. to blanket Capitol Hill and advocate for NAWE's legislative priorities to Members of Congress and their staffs. NAWE on the Hill is our opportunity to connect face to face with leaders in Congress and federal agencies to introduce ourselves, build relationships with staffers, and elevate our priorities and initiatives. A draft itinerary of the week is listed below.&nbsp;<br />
&nbsp;
<p lang="EN-US" paraeid="{e0b955b3-80bc-4452-acc5-b1e0d4da3184}{216}" paraid="161841285" xml:lang="EN-US"><strong>DRAFT ITINERARY<br />
** - Details set to be finalized soon</strong><br />
<br />
<strong>Monday, May 18&nbsp;</strong></p>

<ul role="list">
	<li 335552541="" aria-setsize="-1" data-aria-level="1" data-aria-posinset="1" data-font="Symbol" data-leveltext="ï‚·" data-list-defn-props="{">
	<p lang="EN-US" paraeid="{59aa370a-753f-411d-9a24-9e1d8eaae87e}{110}" paraid="540604587" xml:lang="EN-US">Attendees arrive to town&nbsp;</p>
	</li>
</ul>

<p lang="EN-US" paraeid="{34eba59c-e4b2-48ee-9719-0a0c4252d391}{38}" paraid="1288779924" xml:lang="EN-US"><strong>Tuesday, May 19&nbsp;</strong></p>

<ul>
	<li lang="EN-US" paraeid="{34eba59c-e4b2-48ee-9719-0a0c4252d391}{111}" paraid="278751051" xml:lang="EN-US">10:00am &ndash; NAWE on the Hill Prep Session
	<ul>
		<li lang="EN-US" paraeid="{34eba59c-e4b2-48ee-9719-0a0c4252d391}{111}" paraid="278751051" xml:lang="EN-US">â€‹In this meeting, we will cover our 2026 legislative priorities, teams, talking points, effective meeting tips, and answer any questions you may have.&nbsp;</li>
	</ul>
	</li>
	<li lang="EN-US" paraeid="{34eba59c-e4b2-48ee-9719-0a0c4252d391}{111}" paraid="278751051" xml:lang="EN-US">2:00pm &ndash; 5:00pm &ndash; NAWE&nbsp;Board of Directors Meeting&nbsp;</li>
	<li lang="EN-US" paraeid="{34eba59c-e4b2-48ee-9719-0a0c4252d391}{111}" paraid="278751051" xml:lang="EN-US">**6:45pm &ndash; NY Mets v. Washington Nationals&nbsp;
	<ul>
		<li lang="EN-US" paraeid="{34eba59c-e4b2-48ee-9719-0a0c4252d391}{111}" paraid="278751051" xml:lang="EN-US">We are looking into reserving group tickets to the Washington Nationals baseball game in Navy Yard. Tickets will need to be individually paid&nbsp;for&nbsp;and the NAWE team will communicate more&nbsp;booking details soon.&nbsp;</li>
	</ul>
	</li>
</ul>

<p lang="EN-US" paraeid="{8f20a684-4417-4364-95f6-6888cd8bc700}{245}" paraid="1727861648" xml:lang="EN-US"><strong>Wednesday, May 20</strong>&nbsp;</p>

<ul>
	<li lang="EN-US" paraeid="{24d14892-b7fb-4709-8138-ab36ca5fbdcc}{70}" paraid="1530500218" xml:lang="EN-US">Breakfast&nbsp;</li>
	<li lang="EN-US" paraeid="{24d14892-b7fb-4709-8138-ab36ca5fbdcc}{70}" paraid="1530500218" xml:lang="EN-US">9:00am &ndash; Group photo on Capitol Steps (Senate Side)&nbsp;</li>
	<li lang="EN-US" paraeid="{24d14892-b7fb-4709-8138-ab36ca5fbdcc}{70}" paraid="1530500218" xml:lang="EN-US">9:30am &ndash; 5:00pm &ndash; Meetings on Capitol Hill&nbsp;&nbsp;</li>
	<li lang="EN-US" paraeid="{24d14892-b7fb-4709-8138-ab36ca5fbdcc}{70}" paraid="1530500218" xml:lang="EN-US">5:30pm &ndash; 7:30pm &ndash; National Maritime Day Reception on Capitol Hill&nbsp;</li>
</ul>

<p lang="EN-US" paraeid="{82aa0e45-891f-41a3-9812-e1e1889efae2}{161}" paraid="1776253761" xml:lang="EN-US"><strong>Thursday, May 21</strong>&nbsp;</p>

<ul>
	<li lang="EN-US" paraeid="{82aa0e45-891f-41a3-9812-e1e1889efae2}{237}" paraid="1281489199" xml:lang="EN-US">Breakfast&nbsp;</li>
	<li lang="EN-US" paraeid="{82aa0e45-891f-41a3-9812-e1e1889efae2}{237}" paraid="1281489199" xml:lang="EN-US">9:00am &ndash; 5:00pm &ndash; Meetings on Capitol Hill&nbsp;</li>
	<li lang="EN-US" paraeid="{82aa0e45-891f-41a3-9812-e1e1889efae2}{237}" paraid="1281489199" xml:lang="EN-US">**5:00pm &ndash; Informal Happy Hour at Hawk &lsquo;n&rsquo; Dove&nbsp;</li>
</ul>

<p lang="EN-US" paraeid="{e77059ef-c639-4e7a-bb6c-51561f279c58}{45}" paraid="696666103" xml:lang="EN-US"><strong>Friday, May 22 &ndash; National&nbsp;Maritime&nbsp;Day&nbsp;</strong></p>

<ul>
	<li lang="EN-US" paraeid="{e77059ef-c639-4e7a-bb6c-51561f279c58}{45}" paraid="696666103" xml:lang="EN-US">**9:00am &ndash; Tee Time at The Country Club Woodmore (12320 Pleasant Prospect,&nbsp;Mitchelville, MD 20721)&nbsp;</li>
	<li lang="EN-US" paraeid="{e77059ef-c639-4e7a-bb6c-51561f279c58}{45}" paraid="696666103" xml:lang="EN-US">We are working to&nbsp;finalize&nbsp;a tee time for those who are interested in&nbsp;participating&nbsp;in a round of golf with industry colleagues.</li>
</ul>
<br />Location:<br />Hotel Washington<br />515 15th Street NW<br />Washington, DC 20004
PRIORITY:3
TRANSP:TRANSPARENT
BEGIN:VALARM
TRIGGER:-PT5M
ACTION:DISPLAY
DESCRIPTION:Reminder
END:VALARM
END:VEVENT
END:VCALENDAR
