BEGIN:VCALENDAR
VERSION:2.0
CALSCALE:GREGORIAN
METHOD:PUBLISH
PRODID://OMEA//508663
BEGIN:VEVENT
DTSTAMP:20260423T031255
VTIMEZONE:America/New_York
DTSTART:20260501T190000Z
DTEND:20260502T193000Z
UID:508663
SUMMARY:EC - HS State Choir - (Olentangy Orange HS)
LOCATION:Olentangy Orange HS, 2840 E. Orange Rd, Lewis Center, OH, 43035
DESCRIPTION:EC - HS State Choir - (Olentangy Orange HS)\n\n05/01/26 03:00 PM EST\n - 05/02/26 03:30 PM EST\Description:\nEast Central Region Large Group Choir AE\Details:\nOverflow/second site\Location:\nOlentangy Orange HS\n2840 E. Orange Rd\nLewis Center, OH 43035
X-ALT-DESC;FMTTYPE=text/html:EC - HS State Choir - (Olentangy Orange HS)<br /><br />05/01/26 03:00 PM EST - 05/02/26 03:30 PM EST<br />Description:<br />East Central Region Large Group Choir AE<br />Details:<br />Overflow/second site<br />Location:<br />Olentangy Orange HS<br />2840 E. Orange Rd<br />Lewis Center, OH 43035
PRIORITY:3
TRANSP:TRANSPARENT
BEGIN:VALARM
TRIGGER:-PT5M
ACTION:DISPLAY
DESCRIPTION:Reminder
END:VALARM
END:VEVENT
END:VCALENDAR
