BEGIN:VCALENDAR
VERSION:2.0
CALSCALE:GREGORIAN
METHOD:PUBLISH
PRODID://SFTE//508227
BEGIN:VEVENT
DTSTAMP:20260423T145130
VTIMEZONE:America/Chicago
DTSTART:20260409T230000Z
DTEND:20260410T020000Z
UID:508227
SUMMARY:Wichita Chapter and SFTE Central Section Evening Social
LOCATION:Vora Restaurant European, 3252 E. Douglas Avenue, Wichita, KS, 67214
DESCRIPTION:Wichita Chapter and SFTE Central Section Evening Social\n\n04/09/26 06:00 PM CST\n - 04/09/26 09:00 PM CST\Description:\n9 APRIL – EVENING SOCIAL:\nVora Restaurant European\n3252 E. Douglas Avenue\nWichita, KS 67214\n6:00pm-9:00pm\n\nThe fee to attend this is $35.00 per person which includes a buffet dinner and dessert. A cash bar will be available.\n\nTHE LAST DAY TO REGISTER IS 2 APRIL 2026 12:00pm PDT! PRE-REGISTRATION IS REQUIRED AS WE CANNOT GUARANTEE ACCOMMODATIONS AT THE DOOR.\n\nAllen Herbert (M) of Textron Aviation is the Chairman for this event, Vice-Chairman is Benjamin Hirsh, SFTE.\Location:\nVora Restaurant European\n3252 E. Douglas Avenue\nWichita, KS 67214
X-ALT-DESC;FMTTYPE=text/html:Wichita Chapter and SFTE Central Section Evening Social<br /><br />04/09/26 06:00 PM CST - 04/09/26 09:00 PM CST<br />Description:<br /><strong><strong>9 APRIL &ndash; EVENING SOCIAL:</strong></strong><br />
Vora Restaurant European<br />
3252 E. Douglas Avenue<br />
Wichita, KS 67214<br />
6:00pm-9:00pm<br />
<br />
The fee to attend this is $35.00 per person which includes a buffet dinner and dessert. A cash bar will be available.<br />
<br />
<strong>THE LAST DAY TO REGISTER IS 2 APRIL 2026 12:00pm PDT! PRE-REGISTRATION IS REQUIRED AS WE CANNOT GUARANTEE ACCOMMODATIONS AT THE DOOR.</strong><br />
<br />
Allen Herbert (M) of Textron Aviation is the Chairman for this event, Vice-Chairman is Benjamin Hirsh, SFTE.<br />Location:<br />Vora Restaurant European<br />3252 E. Douglas Avenue<br />Wichita, KS 67214
PRIORITY:3
TRANSP:TRANSPARENT
BEGIN:VALARM
TRIGGER:-PT5M
ACTION:DISPLAY
DESCRIPTION:Reminder
END:VALARM
END:VEVENT
END:VCALENDAR
