BEGIN:VCALENDAR
VERSION:2.0
CALSCALE:GREGORIAN
METHOD:PUBLISH
PRODID://FGAC//504090
BEGIN:VEVENT
DTSTAMP:20260419T165552
VTIMEZONE:America/New_York
DTSTART:20260322T120000Z
DTEND:20260322T160000Z
UID:504090
SUMMARY:Mike P 8 - 12
LOCATION:
DESCRIPTION:Mike P 8 - 12\n\n03/22/26 08:00 AM EST\n - 03/22/26 12:00 PM EST
X-ALT-DESC;FMTTYPE=text/html:Mike P 8 - 12<br /><br />03/22/26 08:00 AM EST - 03/22/26 12:00 PM EST
PRIORITY:3
TRANSP:TRANSPARENT
BEGIN:VALARM
TRIGGER:-PT5M
ACTION:DISPLAY
DESCRIPTION:Reminder
END:VALARM
END:VEVENT
END:VCALENDAR
