BEGIN:VCALENDAR
VERSION:2.0
CALSCALE:GREGORIAN
METHOD:PUBLISH
PRODID://BGTB//501958
BEGIN:VEVENT
DTSTAMP:20260420T223729
VTIMEZONE:America/New_York
DTSTART:20260319T180000Z
DTEND:20260319T190000Z
UID:501958
SUMMARY:Membership Committee Meeting
LOCATION:, FL
DESCRIPTION:Membership Committee Meeting\n\n03/19/26 02:00 PM EST\n - 03/19/26 03:00 PM EST\Description:\nThe Membership Committee will hold its monthly meeting via Teams.
X-ALT-DESC;FMTTYPE=text/html:Membership Committee Meeting<br /><br />03/19/26 02:00 PM EST - 03/19/26 03:00 PM EST<br />Description:<br />The Membership Committee will hold its monthly meeting via Teams.
PRIORITY:3
TRANSP:TRANSPARENT
BEGIN:VALARM
TRIGGER:-PT5M
ACTION:DISPLAY
DESCRIPTION:Reminder
END:VALARM
END:VEVENT
END:VCALENDAR
