BEGIN:VCALENDAR
VERSION:2.0
CALSCALE:GREGORIAN
METHOD:PUBLISH
PRODID://ALP//500411
BEGIN:VEVENT
DTSTAMP:20260424T030421
VTIMEZONE:America/New_York
DTSTART:20260429T180000Z
DTEND:20260429T190000Z
UID:500411
SUMMARY:Member Orientation
LOCATION:Virtual Event - Zoom
DESCRIPTION:Member Orientation\n\n04/29/26 02:00 PM EST\n - 04/29/26 03:00 PM EST\Description:\n\nAre you a new member of ALP or a new team member within your Community Leadership Program? Join us for a one-hour deep dive into all that ALP has to offer.\n\nIn this session, we'll cover:\n\n\n	Meet the ALP Team – Get to know the staff who support your membership and learn how we can help you succeed\n	ALP Programming & Resources – Discover the full range of programs, Affinity Groups, peer learning opportunities, and member benefits available to you\n	Navigating Your Members-Only Portal – Learn how to access resources, find connections, and make the most of your ALP membership tools\n\n\nThis is your opportunity to ask questions, get oriented, and start engaging with the ALP community. Whether you're brand new to the field or new to ALP, come ready to explore how this network can support your work and professional growth.\n\Location:\nVirtual Event - Zoom\n\n,
X-ALT-DESC;FMTTYPE=text/html:Member Orientation<br /><br />04/29/26 02:00 PM EST - 04/29/26 03:00 PM EST<br />Description:<br /><meta charset="UTF-8" />
<p>Are you a new member of ALP or a new team member within your Community Leadership Program? Join us for a one-hour deep dive into all that ALP has to offer.</p>

<p>In this session, we'll cover:</p>

<ul type="disc">
	<li><strong>Meet the ALP Team</strong>&nbsp;&ndash; Get to know the staff who support your membership and learn how we can help you succeed</li>
	<li><strong>ALP Programming &amp; Resources</strong>&nbsp;&ndash; Discover the full range of programs, Affinity Groups, peer learning opportunities, and member benefits available to you</li>
	<li><strong>Navigating Your Members-Only Portal</strong>&nbsp;&ndash; Learn how to access resources, find connections, and make the most of your ALP membership tools</li>
</ul>

<p>This is your opportunity to ask questions, get oriented, and start engaging with the ALP community. Whether you're brand new to the field or new to ALP, come ready to explore how this network can support your work and professional growth.</p>
<br />Location:<br />Virtual Event - Zoom<br /><br />,  
PRIORITY:3
TRANSP:TRANSPARENT
BEGIN:VALARM
TRIGGER:-PT5M
ACTION:DISPLAY
DESCRIPTION:Reminder
END:VALARM
END:VEVENT
END:VCALENDAR
