BEGIN:VCALENDAR
VERSION:2.0
CALSCALE:GREGORIAN
METHOD:PUBLISH
PRODID://FWEA//499259
BEGIN:VEVENT
DTSTAMP:20260420T102947
VTIMEZONE:America/New_York
DTSTART:20260602T130000Z
DTEND:20260604T210000Z
UID:499259
SUMMARY:SWAN 16th Annual Conference
LOCATION:JW Marriott Tampa Water Street, 510 Water Street, Tampa , FL, 33602
DESCRIPTION:SWAN 16th Annual Conference\n\n06/02/26 09:00 AM EST\n - 06/04/26 05:00 PM EST\Description:\nThe leading, global smart water event, the SWAN 16th Annual Conference will take place June 2-4, 2026 at the JW Marriott in Tampa, Florida. Held in partnership with Hillsborough County Water Resources Department, the event will focus on "Adapting Your Digital Journey." The first day will feature full-day interactive workshops, the second day will cover strategic industry trends, and the last day will include technical tracks.\Details:\nView all event details, including early-bird rates, discounted hotel rooms, and sponsorship opportunities on the conference website. SWAN Members receive 1-4 free passes, explore membership benefits.\n\nSubmit your abstract by January 9th: SWAN 2026 Call for Abstracts\n\Location:\nJW Marriott Tampa Water Street\n510 Water Street\nTampa , FL 33602
X-ALT-DESC;FMTTYPE=text/html:SWAN 16th Annual Conference<br /><br />06/02/26 09:00 AM EST - 06/04/26 05:00 PM EST<br />Description:<br /><span style="font-size:12px"><span style="font-family:arial,helvetica,sans-serif">The&nbsp;<strong>leading, global smart water event</strong>, the&nbsp;<a href="https://swan-forum.com/events/swan-2026/" rel="nofollow noreferrer noopener" target="_blank">SWAN 16th Annual Conference</a>&nbsp;will take place&nbsp;<strong>June 2-4, 2026</strong>&nbsp;at the JW Marriott in Tampa, Florida. Held in partnership with&nbsp;Hillsborough County Water Resources Department, the event will focus on&nbsp;<strong>&quot;Adapting Your Digital Journey.&quot;</strong>&nbsp;The first day will feature full-day interactive workshops, the second day will cover strategic industry trends, and the last day will include&nbsp;technical tracks.</span></span><br />Details:<br /><p><span style="font-size:12px"><span style="font-family:arial,helvetica,sans-serif">View all event details, including early-bird rates, discounted hotel rooms, and sponsorship opportunities&nbsp;on the conference website. SWAN Members receive 1-4 free passes, explore&nbsp;<a href="https://swan-forum.com/join/" rel="nofollow noreferrer noopener" target="_blank">membership benefits</a>.</span></span></p>

<p><span style="font-size:12px"><span style="font-family:arial,helvetica,sans-serif">Submit your abstract by January 9th:&nbsp;<a href="https://swan-forum.com/swan-2026-call-for-abstracts/">SWAN 2026 Call for Abstracts</a></span></span></p>
<br />Location:<br />JW Marriott Tampa Water Street<br />510 Water Street<br />Tampa , FL 33602
PRIORITY:3
TRANSP:TRANSPARENT
BEGIN:VALARM
TRIGGER:-PT5M
ACTION:DISPLAY
DESCRIPTION:Reminder
END:VALARM
END:VEVENT
END:VCALENDAR
