BEGIN:VCALENDAR
VERSION:2.0
CALSCALE:GREGORIAN
METHOD:PUBLISH
PRODID://MWEA//497842
BEGIN:VEVENT
DTSTAMP:20260421T145847
VTIMEZONE:America/New_York
DTSTART:20261008T120000Z
DTEND:20261008T200000Z
UID:497842
SUMMARY:MWEA Northern MI WW Operations Seminar
LOCATION:Jay's Sporting Goods - Gaylord, 1151 S. Otsego Ave., Gaylord, MI, 49735
DESCRIPTION:MWEA Northern MI WW Operations Seminar\n\n10/08/26 08:00 AM EST\n - 10/08/26 04:00 PM EST\Description:\nSAVE THE DATE for the 2026 Northern MI WW Operations Seminar!\n\nExpert-Led Sessions | Continuing Education | Networking | Employee Engagement\n\nThe seminar provides opportunities for wastewater operators, techs, managers, and environmental professionals to learn about the latest technologies, regulations, best practices, what’s happening around Northern Michigan. Sessions are led by experienced professionals and experts who share valuable insights, case studies, and lessons learned. This provides attendees with practical knowledge that can be applied to their own facilities or operations. Vendors and suppliers often showcase the latest equipment, processes, and problem-solving solutions.\n\nAttending the seminar helps build a sense of community among wastewater professionals in Northern Michigan. It fosters relationships that can lead to collaborative problem-solving and support in times of need. Engaging with peers and learning about new advancements and success stories can be motivating and energizing, helping attendees to return to their jobs with renewed enthusiasm and a fresh perspective.\n\Details:\nCEC/PDH Information:\nCECs Available: TBD\nEGLE Course Code: TBD\n\nAttendee Registration Costs\n*MWEA/WEF Member - $TBD\n*Non-Member - $TBD\nStudent or intern rate - $TBD\nRetired rate - $TBD\n\n*Register before TBD to receive $10 off registration costs!\n\n\nExhibitor / Sponsor Registration Costs\n\nSPONSOR - $250 (Max of 4)\n\n\n	Company name and/or logo on pre-conference marketing and advertising\n	Company name and/or logo on sponsorship signage prominently displayed during the seminar\n	Company LOGO on final printed agenda on-site at seminar\n	Up to THREE (3) CUSTOM slides in the seminar powerpoint loop (played during registration and on breaks and meals)\n	\n		Must be sent no later than 1 week before event for inclusion in loop, otherwise a slide with your company logo will be used\n	\n	\n	60-Second Company Update at the seminar (if in attendance)\n	Final attendee list with contact information including email addresses for those who opt-in\n	Note: A sponsorship does NOT include seminar attendance or an exhibit booth. Those can be added separately.\n\n\nEXHIBITOR - $350 (Max of 11)\n\n\n	ONE Complimentary Registration to this Seminar\n	â€‹Company Logo/Name on all seminar advertising\n	Company NAME on final printed agenda on-site at seminar\n	Company logo and description in the Seminar PowerPoint loop\n	Final attendee list with contact information including email addresses for those who opt-in\n	Opportunity to provide swag, gifts, and/or prize drawing for participants (at your own cost)\n	Provided table space at In-Person Seminar to use for displaying signage, product materials, swag, etc\n	â€‹60 second company update at the seminar\n\nAdditional Exhibitor Representative - $100\n\n\n	Each exhibitor booth includes ONE complimentary seminar attendance \n	This option is to add an additional exhibitor representative (individual) at a discounted rate\n\n*Register by TBD for your company logo to be included on the event postcard sent to over 2,000 industry professionals!\n \Location:\nJay's Sporting Goods - Gaylord\n1151 S. Otsego Ave.\nGaylord, MI 49735
X-ALT-DESC;FMTTYPE=text/html:MWEA Northern MI WW Operations Seminar<br /><br />10/08/26 08:00 AM EST - 10/08/26 04:00 PM EST<br />Description:<br /><p><span style="font-size:22px"><strong>SAVE THE DATE for the 2026 Northern MI WW Operations&nbsp;Seminar!</strong></span></p>

<p><strong>Expert-Led Sessions&nbsp;| Continuing&nbsp;Education&nbsp;|&nbsp;Networking | Employee Engagement</strong></p>

<p>The seminar provides opportunities for wastewater operators, techs, managers, and environmental professionals to learn about the latest technologies, regulations,&nbsp;best practices,&nbsp;what&rsquo;s happening around&nbsp;Northern Michigan.&nbsp;Sessions are led by experienced professionals and experts who share valuable insights, case studies, and lessons learned. This provides attendees with practical knowledge that can be applied to their own facilities or operations.&nbsp;Vendors and suppliers often showcase the latest equipment, processes, and problem-solving solutions.<br />
<br />
Attending the seminar helps build a sense of community among wastewater professionals in Northern Michigan. It fosters relationships that can lead to collaborative problem-solving and support in times of need. Engaging with peers and learning about new advancements and success stories can be motivating and energizing, helping attendees to return to their jobs with renewed enthusiasm and a fresh perspective.</p>
<br />Details:<br /><h3><u><strong>CEC/PDH Information:</strong></u></h3>
<strong>CECs Available:</strong> TBD<br />
<strong>EGLE Course Code:</strong>&nbsp;TBD

<h3><u><strong>Attendee Registration Costs</strong></u></h3>
<strong>*MWEA/WEF Member</strong> - $TBD<br />
<strong>*Non-Member</strong> - $TBD<br />
<strong>Student or intern rate -</strong> $TBD<br />
<strong>Retired rate - </strong>$TBD<br />
<br />
<strong><em>*Register before <u>TBD</u> to receive $10 off registration costs!</em></strong>

<hr />
<h3><strong><u>Exhibitor / Sponsor Registration Costs</u></strong><br />
<br />
<strong>SPONSOR - $250 (Max of 4)</strong></h3>

<ul>
	<li>Company name and/or logo on pre-conference marketing and advertising</li>
	<li>Company name and/or logo on sponsorship signage prominently displayed during the seminar</li>
	<li>Company LOGO on final printed agenda on-site at seminar</li>
	<li>Up to THREE (3) CUSTOM slides in the seminar powerpoint loop (played during registration and on breaks and meals)
	<ul>
		<li><em>Must be sent no later than 1 week before event for inclusion in loop, otherwise a slide with your company logo will be used</em></li>
	</ul>
	</li>
	<li>60-Second Company Update at the seminar (if in attendance)</li>
	<li>Final attendee list with contact information including email addresses for those who opt-in</li>
	<li><em>Note: A sponsorship does NOT include seminar attendance or an exhibit booth. Those can be added separately.</em></li>
</ul>

<h3><strong>EXHIBITOR - $350&nbsp;(Max of 11)</strong></h3>

<ul>
	<li>ONE Complimentary Registration to this Seminar</li>
	<li>â€‹Company Logo/Name on all seminar advertising</li>
	<li>Company NAME on final printed agenda on-site at seminar</li>
	<li>Company logo and description in the Seminar PowerPoint loop</li>
	<li>Final attendee list with contact information including email addresses for those who opt-in</li>
	<li>Opportunity to provide swag, gifts, and/or prize drawing for participants (at your own cost)</li>
	<li>Provided table space at In-Person Seminar to use for displaying signage, product materials, swag, etc</li>
	<li>â€‹60 second company update at the seminar</li>
</ul>
<strong>Additional Exhibitor Representative - $100</strong>

<ul>
	<li>Each exhibitor booth includes ONE&nbsp;complimentary seminar attendance&nbsp;</li>
	<li>This option is to add an additional exhibitor representative (individual) at a discounted rate</li>
</ul>
<strong><em>*Register by <u>TBD</u> for your company logo to be included on the event postcard sent to over 2,000 industry professionals!</em></strong><br />
&nbsp;<br />Location:<br />Jay's Sporting Goods - Gaylord<br />1151 S. Otsego Ave.<br />Gaylord, MI 49735
PRIORITY:3
TRANSP:TRANSPARENT
BEGIN:VALARM
TRIGGER:-PT5M
ACTION:DISPLAY
DESCRIPTION:Reminder
END:VALARM
END:VEVENT
END:VCALENDAR
