BEGIN:VCALENDAR
VERSION:2.0
CALSCALE:GREGORIAN
METHOD:PUBLISH
PRODID://ERWW//497828
BEGIN:VEVENT
DTSTAMP:20260419T200335
VTIMEZONE:America/Los_Angeles
DTSTART:20260728T153000Z
DTEND:20260728T200000Z
UID:497828
SUMMARY:Standard Operating Procedures- Virtual
LOCATION:
DESCRIPTION:Standard Operating Procedures- Virtual\n\n07/28/26 08:30 AM PST\n - 07/28/26 01:00 PM PST\Description:\nStandard Operating Procedures are key to operating a water/wastewater system. This document will allow backup operators to step in and understand how to operate your utility. \nTaught by John Schwartz with USABlueBook\n \n0.4 Water and Wastewater CEUs \nCosts: $100 ERWoW Members / $130 Non-Members\n \n
X-ALT-DESC;FMTTYPE=text/html:Standard Operating Procedures- Virtual<br /><br />07/28/26 08:30 AM PST - 07/28/26 01:00 PM PST<br />Description:<br /><font size="3">Standard Operating Procedures are key to operating a water/wastewater system. This document will allow backup operators to step in and understand how to operate your utility.&nbsp;<br />
<em>Taught by John Schwartz with USABlueBook</em></font><br />
&nbsp;
<p><font face="Arial, Helvetica, sans-serif">0.4&nbsp;Water and Wastewater&nbsp;CEUs&nbsp;</font><br />
<font face="Arial, Helvetica, sans-serif">Costs: $100 ERWoW Members / $130&nbsp;Non-Members</font><br />
&nbsp;</p>

PRIORITY:3
TRANSP:TRANSPARENT
BEGIN:VALARM
TRIGGER:-PT5M
ACTION:DISPLAY
DESCRIPTION:Reminder
END:VALARM
END:VEVENT
END:VCALENDAR
