BEGIN:VCALENDAR
VERSION:2.0
CALSCALE:GREGORIAN
METHOD:PUBLISH
PRODID://FGAC//497634
BEGIN:VEVENT
DTSTAMP:20260424T034741
VTIMEZONE:America/New_York
DTSTART:20260301T140000Z
DTEND:20260301T170000Z
UID:497634
SUMMARY:Sporting Clays
LOCATION:
DESCRIPTION:Sporting Clays\n\n03/01/26 09:00 AM EST\n - 03/01/26 12:00 PM EST\Description:\nMembers $20.00\nNon-members $40.00
X-ALT-DESC;FMTTYPE=text/html:Sporting Clays<br /><br />03/01/26 09:00 AM EST - 03/01/26 12:00 PM EST<br />Description:<br />Members $20.00<br />
Non-members $40.00
PRIORITY:3
TRANSP:TRANSPARENT
BEGIN:VALARM
TRIGGER:-PT5M
ACTION:DISPLAY
DESCRIPTION:Reminder
END:VALARM
END:VEVENT
END:VCALENDAR
